BEGIN:VCALENDAR
VERSION:2.0
PRODID:-//Centre Communautaire Tchadien du Canada - ECPv6.15.20//NONSGML v1.0//EN
CALSCALE:GREGORIAN
METHOD:PUBLISH
X-WR-CALNAME:Centre Communautaire Tchadien du Canada
X-ORIGINAL-URL:https://cctc-td.ca
X-WR-CALDESC:Events for Centre Communautaire Tchadien du Canada
REFRESH-INTERVAL;VALUE=DURATION:PT1H
X-Robots-Tag:noindex
X-PUBLISHED-TTL:PT1H
BEGIN:VTIMEZONE
TZID:UTC
BEGIN:STANDARD
TZOFFSETFROM:+0000
TZOFFSETTO:+0000
TZNAME:UTC
DTSTART:20250101T000000
END:STANDARD
END:VTIMEZONE
BEGIN:VEVENT
DTSTART;VALUE=DATE:20270216
DTEND;VALUE=DATE:20270221
DTSTAMP:20260420T112347
CREATED:20250709T040225Z
LAST-MODIFIED:20250413T230058Z
UID:2057-1802736000-1803167999@cctc-td.ca
SUMMARY:Festival Culturel Tchadien
DESCRIPTION:Oh God\, my uncle. How am I ever gonna explain this? The plans you refer to will soon be back in our hands. I suggest you try it again\, Luke. This time\, let go your conscious self and act on instinct. I want to come with you to Alderaan. There’s nothing for me here now. I want to learn the ways of the Force and be a Jedi\, like my father before me. As you wish. I don’t know what you’re talking about. I am a member of the Imperial Senate on a diplomatic mission to Alderaan–
URL:https://cctc-td.ca/event/provide-pure-water-and-fresh-food-fo/
LOCATION:The Corn Palace\, Mitchell\, 57301\, United States
CATEGORIES:Culture,Education,Intégration
ATTACH;FMTTYPE=image/jpeg:https://cctc-td.ca/wp-content/uploads/2025/08/PHOTO-2.jpg
ORGANIZER;CN="Sammy Sosa":MAILTO:baseball@hotmail.com
END:VEVENT
BEGIN:VEVENT
DTSTART;TZID=UTC:20260424T153000
DTEND;TZID=UTC:20260426T163000
DTSTAMP:20260420T112347
CREATED:20250505T100219Z
LAST-MODIFIED:20250413T225535Z
UID:2052-1777044600-1777221000@cctc-td.ca
SUMMARY:Journée d'Intégration des Nouveaux Arrivants
DESCRIPTION:S’installer dans un nouveau pays peut être un défi\, mais vous n’êtes pas seul(e) ! Le Centre Communautaire Tchadien du Canada (CCTC) organise une journée spéciale dédiée aux nouveaux arrivants pour faciliter leur adaptation et leur offrir les ressources nécessaires à une intégration réussie. \nAu programme :✅ Ateliers d’orientation : Comprendre les démarches administratives et les services disponibles.✅ Soutien linguistique : Cours et conseils pour améliorer votre français et votre anglais.✅ Rencontres et réseautage : Échangez avec d’autres nouveaux arrivants et des membres établis de la communauté.✅ Interventions d’experts : Informations sur l’emploi\, le logement et la culture québécoise et canadienne. \nRejoignez-nous pour cette journée d’échange\, de partage et de solidarité afin de mieux démarrer votre nouvelle vie au Canada ! ???????????????? \n???? Date : 4/15/2025???? Lieu : CCTC???? Inscription gratuite : Le lien
URL:https://cctc-td.ca/event/uk-will-have-school-lesson/
LOCATION:Montreal
CATEGORIES:Intégration
ATTACH;FMTTYPE=image/jpeg:https://cctc-td.ca/wp-content/uploads/2022/12/sw-post-3-min.jpg
END:VEVENT
END:VCALENDAR